{
 "currentVersion": 10.22,
 "serviceDescription": "2024 Orthos",
 "mapName": "Layers",
 "description": "",
 "copyrightText": "",
 "supportsDynamicLayers": false,
 "layers": [
  {
   "id": 0,
   "name": "IMAGERY.DBO.IMG_2024_STJOSEPH_3IN",
   "parentLayerId": -1,
   "defaultVisibility": true,
   "subLayerIds": null,
   "minScale": 0,
   "maxScale": 0
  }
 ],
 "tables": [],
 "spatialReference": {
  "wkid": 2244,
  "latestWkid": 2965
 },
 "singleFusedMapCache": true,
 "tileInfo": {
  "rows": 256,
  "cols": 256,
  "dpi": 96,
  "format": "Mixed",
  "compressionQuality": 95,
  "origin": {
   "x": -18119800,
   "y": 20012700
  },
  "spatialReference": {
   "wkid": 2244,
   "latestWkid": 2965
  },
  "lods": [
   {
    "level": 0,
    "resolution": 275,
    "scale": 316800
   },
   {
    "level": 1,
    "resolution": 165,
    "scale": 190080
   },
   {
    "level": 2,
    "resolution": 110,
    "scale": 126720
   },
   {
    "level": 3,
    "resolution": 82.5,
    "scale": 95040
   },
   {
    "level": 4,
    "resolution": 55,
    "scale": 63360
   },
   {
    "level": 5,
    "resolution": 26.041666666666664,
    "scale": 30000
   },
   {
    "level": 6,
    "resolution": 20.833333333333332,
    "scale": 24000
   },
   {
    "level": 7,
    "resolution": 15.625,
    "scale": 18000
   },
   {
    "level": 8,
    "resolution": 10.416666666666666,
    "scale": 12000
   },
   {
    "level": 9,
    "resolution": 8.333333333333332,
    "scale": 9600
   },
   {
    "level": 10,
    "resolution": 4.166666666666666,
    "scale": 4800
   },
   {
    "level": 11,
    "resolution": 2.6041666666666665,
    "scale": 3000
   },
   {
    "level": 12,
    "resolution": 1.0416666666666665,
    "scale": 1200
   },
   {
    "level": 13,
    "resolution": 0.5208333333333333,
    "scale": 600
   }
  ]
 },
 "initialExtent": {
  "xmin": -14753.620745543012,
  "ymin": 2239506.0097244736,
  "xmax": 440849.62074554304,
  "ymax": 2386824,
  "spatialReference": {
   "wkid": 2244,
   "latestWkid": 2965
  }
 },
 "fullExtent": {
  "xmin": 91608,
  "ymin": 2109624,
  "xmax": 334488,
  "ymax": 2373624,
  "spatialReference": {
   "wkid": 2244,
   "latestWkid": 2965
  }
 },
 "minScale": 316800,
 "maxScale": 600,
 "units": "esriFeet",
 "supportedImageFormatTypes": "PNG32,PNG24,PNG,JPG,DIB,TIFF,EMF,PS,PDF,GIF,SVG,SVGZ,BMP",
 "documentInfo": {
  "Title": "",
  "Author": "",
  "Comments": "2024 Orthos",
  "Subject": "2024 Orthos",
  "Category": "",
  "AntialiasingMode": "None",
  "TextAntialiasingMode": "Force",
  "Keywords": "2024 Orthos"
 },
 "capabilities": "Map,Query,Data",
 "supportedQueryFormats": "JSON, AMF",
 "exportTilesAllowed": false,
 "maxRecordCount": 1000,
 "maxImageHeight": 4096,
 "maxImageWidth": 4096,
 "supportedExtensions": "KmlServer"
}
